BEGIN:VCALENDAR
VERSION:2.0
PRODID:icalendar-ruby
CALSCALE:GREGORIAN
METHOD:PUBLISH
BEGIN:VEVENT
DTSTAMP:20260422T012629Z
UID:7-1550574@farmersvillefumc.com
DTSTART:20260429T003000Z
DTEND:20260429T020000Z
CLASS:PUBLIC
CREATED:20260421T143852
DESCRIPTION:
LAST-MODIFIED:20260421T143852
LOCATION:Charlie's Old Fashion Kitchen back room 201 S Hamilton Farmersvill
 e TX
SUMMARY:What is Going On?!
URL;VALUE=URI:https://farmersvillefumc.com/events/what-is-going-on/2026-04-
 28
END:VEVENT
END:VCALENDAR
