BEGIN:VCALENDAR
VERSION:2.0
PRODID:icalendar-ruby
CALSCALE:GREGORIAN
METHOD:PUBLISH
BEGIN:VEVENT
DTSTAMP:20260424T145051Z
UID:5-1556257@farmersvillefumc.com
DTSTART:20261018T180000Z
DTEND:20261018T190000Z
CLASS:PUBLIC
CREATED:20260424T054901
DESCRIPTION:Sunday Worship
LAST-MODIFIED:20260424T054901
LOCATION:
SUMMARY:Sunday Worship
URL;VALUE=URI:https://farmersvillefumc.com/events/sunday-worship/2026-10-18
END:VEVENT
END:VCALENDAR
