BEGIN:VCALENDAR
VERSION:2.0
PRODID:icalendar-ruby
CALSCALE:GREGORIAN
METHOD:PUBLISH
BEGIN:VEVENT
DTSTAMP:20260421T234952Z
UID:5-1550941@farmersvillefumc.com
DTSTART:20260809T180000Z
DTEND:20260809T190000Z
CLASS:PUBLIC
CREATED:20260421T160058
DESCRIPTION:Sunday Worship
LAST-MODIFIED:20260421T160058
LOCATION:
SUMMARY:Sunday Worship
URL;VALUE=URI:https://farmersvillefumc.com/events/sunday-worship/2026-08-09
END:VEVENT
END:VCALENDAR
